BEGIN:VCALENDAR
VERSION:2.0
PRODID:-//eventon.com NONSGML v1.0//EN
CALSCALE:GREGORIAN
METHOD:PUBLISH
BEGIN:VEVENT
UID:69e761bd457e1
DTSTAMP:20260421T113837Z
DTSTART:20260530T083000Z
DTEND:20260530T120000Z
LOCATION:
SUMMARY:Marche des 50 ans\,  organisée par le Service de Diabétologie du CHU Tivoli
DESCRIPTION:Partez à la découverte du village de Waudrez en empruntant g
 ratuitement l’un de nos circuits de 3\,  5 ou 8 kilomètres.\nhttps://rl
 mrc.be/blog/events/marche-des-50-ans-organisee-par-le-service-de-diabetolog
 ie-du-chu-tivoli/
URL:https://rlmrc.be/blog/events/marche-des-50-ans-organisee-par-le-service-de-diabetologie-du-chu-tivoli/
END:VEVENT
END:VCALENDAR