BEGIN:VCALENDAR
VERSION:2.0
PRODID:-//RLMRC - ECPv6.15.17.1//NONSGML v1.0//EN
CALSCALE:GREGORIAN
METHOD:PUBLISH
X-ORIGINAL-URL:https://rlmrc.be
X-WR-CALDESC:Évènements pour RLMRC
REFRESH-INTERVAL;VALUE=DURATION:PT1H
X-Robots-Tag:noindex
X-PUBLISHED-TTL:PT1H
BEGIN:VTIMEZONE
TZID:Europe/Brussels
BEGIN:DAYLIGHT
TZOFFSETFROM:+0100
TZOFFSETTO:+0200
TZNAME:CEST
DTSTART:20250330T010000
END:DAYLIGHT
BEGIN:STANDARD
TZOFFSETFROM:+0200
TZOFFSETTO:+0100
TZNAME:CET
DTSTART:20251026T010000
END:STANDARD
BEGIN:DAYLIGHT
TZOFFSETFROM:+0100
TZOFFSETTO:+0200
TZNAME:CEST
DTSTART:20260329T010000
END:DAYLIGHT
BEGIN:STANDARD
TZOFFSETFROM:+0200
TZOFFSETTO:+0100
TZNAME:CET
DTSTART:20261025T010000
END:STANDARD
BEGIN:DAYLIGHT
TZOFFSETFROM:+0100
TZOFFSETTO:+0200
TZNAME:CEST
DTSTART:20270328T010000
END:DAYLIGHT
BEGIN:STANDARD
TZOFFSETFROM:+0200
TZOFFSETTO:+0100
TZNAME:CET
DTSTART:20271031T010000
END:STANDARD
END:VTIMEZONE
BEGIN:VEVENT
DTSTART;TZID=Europe/Brussels:20260530T083000
DTEND;TZID=Europe/Brussels:20260530T120000
DTSTAMP:20260421T151921
CREATED:20260421T083826Z
LAST-MODIFIED:20260421T083834Z
UID:5393-1780129800-1780142400@rlmrc.be
SUMMARY:Marche des 50 ans\, organisée par le service de diabétologie du CHU Tivoli
DESCRIPTION:
URL:https://rlmrc.be/event/marche-des-50-ans-organisee-par-le-service-de-diabetologie-du-chu-tivoli/
ATTACH;FMTTYPE=image/jpeg:https://rlmrc.be/wp-content/uploads/2026/04/Affiche-Marche-Waudrez-30Mai2026-002-scaled.jpg
END:VEVENT
BEGIN:VEVENT
DTSTART;TZID=Europe/Brussels:20260606T080000
DTEND;TZID=Europe/Brussels:20260606T140000
DTSTAMP:20260421T151921
CREATED:20260318T093153Z
LAST-MODIFIED:20260323T092958Z
UID:5245-1780732800-1780754400@rlmrc.be
SUMMARY:5ème Symposium du Pied Diabétique – Edition 2026
DESCRIPTION:5ème Symposium du Pied Diabétique – Edition 2026\n				Le Groupe Pied Diabétique de l’Association du Diabète est heureux de vous inviter à participer à son 5ème symposium du pied diabétique\, le samedi 6 juin 2026. \nCette matinée scientifique est centrée sur la prise en charge de la problématique du pied diabétique dont les soins de plaie\, le choix du pansement et les nouveautés en termes de soins. Plusieurs experts spécialistes de ces questions prendront la parole à cette occasion. \nL’évènement s’adresse à tous les professionnels de santé impliqués dans la prise en charge du pied diabétique et se déroulera à La Bourse de Namur (Place d’Armes 1\, 5000 Namur). \nProgramme de la journée \n8h- 8h30 : Accueil et enregistrement8h30 – 8h45 : Mot de la Présidente – Dr M. Rorive8h45 – 9h05 : Le pied diabétique et dénutrition – Dr J. De Flines9h05 – 9h25 : La pathologie de l’ongle – Dr T. Metz9h25 – 9h 45 : La place de la chirurgie orthopédique dans la prévention du pied diabétique – Dr G. VandemeulebroeckeQuestions – Réponses \nPause café \n10h30 – 10h50 : L’auto-examen des pieds et attitude face à l’urgence – Mmes N. Hussin et D. Grandry10h50 – 11h10 : La prise en charge de la douleur dans le pied diabétique – Dr JM Caroyer11h30 – 11h50 : La réadaptation du patient diabétique en post-amputation – Dr D. Pelzer11h50 – 12h 30 : Les conseils de l’orthésiste – prothésiste en post-amputation – Dr A. MerlenQuestions – Réponses \n12h50 : Conclusions13h00 – 14h00 : Walking Lunch \nInscription \nhttps://www.diabete.be/actualites-et-agenda-6/agenda-197/symposium-pied-diabetique-856#gsc.tab=0 \n50 euros – 30 euros pour les étudiantsAccréditation demandée
URL:https://rlmrc.be/event/5eme-symposium-du-pied-diabetique-edition-2026/
ATTACH;FMTTYPE=image/png:https://rlmrc.be/wp-content/uploads/2026/03/Divers-Site-6-e1774258083394.png
END:VEVENT
END:VCALENDAR